BEGIN:VCALENDAR
VERSION:2.0
PRODID:-//Mahoning Valley Accounting Society - ECPv6.15.15//NONSGML v1.0//EN
CALSCALE:GREGORIAN
METHOD:PUBLISH
X-ORIGINAL-URL:https://mvasonline.com
X-WR-CALDESC:Events for Mahoning Valley Accounting Society
REFRESH-INTERVAL;VALUE=DURATION:PT1H
X-Robots-Tag:noindex
X-PUBLISHED-TTL:PT1H
BEGIN:VTIMEZONE
TZID:America/New_York
BEGIN:DAYLIGHT
TZOFFSETFROM:-0500
TZOFFSETTO:-0400
TZNAME:EDT
DTSTART:20230312T070000
END:DAYLIGHT
BEGIN:STANDARD
TZOFFSETFROM:-0400
TZOFFSETTO:-0500
TZNAME:EST
DTSTART:20231105T060000
END:STANDARD
BEGIN:DAYLIGHT
TZOFFSETFROM:-0500
TZOFFSETTO:-0400
TZNAME:EDT
DTSTART:20240310T070000
END:DAYLIGHT
BEGIN:STANDARD
TZOFFSETFROM:-0400
TZOFFSETTO:-0500
TZNAME:EST
DTSTART:20241103T060000
END:STANDARD
BEGIN:DAYLIGHT
TZOFFSETFROM:-0500
TZOFFSETTO:-0400
TZNAME:EDT
DTSTART:20250309T070000
END:DAYLIGHT
BEGIN:STANDARD
TZOFFSETFROM:-0400
TZOFFSETTO:-0500
TZNAME:EST
DTSTART:20251102T060000
END:STANDARD
END:VTIMEZONE
BEGIN:VEVENT
DTSTART;TZID=America/New_York:20240612T080000
DTEND;TZID=America/New_York:20240612T170000
DTSTAMP:20260421T011524
CREATED:20240522T144021Z
LAST-MODIFIED:20240522T144021Z
UID:900-1718179200-1718211600@mvasonline.com
SUMMARY:2024 IRS UPDATES & TRENDS
DESCRIPTION:WEDNESDAY\, JUNE 12\, 2024\n2024 IRS UPDATES & TRENDS\nSPEAKER:  NICHELLE D. GRAY\, IRS STAKEHOLDER LIAISON\nREGISTRATION 8:00 AM\, SEMINAR 8:30 AM to 10:30 AM\nCOST:  MEMBERS $20\, NON-MEMBERS $25\nCPE: 2 HOURS TAX (INCLUDES BREAKFAST) \n***If you attended the February 27\, 2024 Seminar there will be no charge for you –\n        Call or email Jack@agm-cpas.com if you will be attending***						 \n\n  \n   \n\n\n\n        \n        Attendee Type\n      \n\n\n\n        \n            MEMBERS $20.00 USD\n          \n            NON-MEMBERS $25.00 USD
URL:https://mvasonline.com/event/2024-irs-updates-trends/
LOCATION:A La Cart Catering\, 429 Lisbon Street\, Canfield\, OH\, 44406\, United States
END:VEVENT
END:VCALENDAR