BEGIN:VCALENDAR
VERSION:2.0
PRODID:-//Mahoning Valley Accounting Society - ECPv6.15.15//NONSGML v1.0//EN
CALSCALE:GREGORIAN
METHOD:PUBLISH
X-WR-CALNAME:Mahoning Valley Accounting Society
X-ORIGINAL-URL:https://mvasonline.com
X-WR-CALDESC:Events for Mahoning Valley Accounting Society
REFRESH-INTERVAL;VALUE=DURATION:PT1H
X-Robots-Tag:noindex
X-PUBLISHED-TTL:PT1H
BEGIN:VTIMEZONE
TZID:America/New_York
BEGIN:DAYLIGHT
TZOFFSETFROM:-0500
TZOFFSETTO:-0400
TZNAME:EDT
DTSTART:20190310T070000
END:DAYLIGHT
BEGIN:STANDARD
TZOFFSETFROM:-0400
TZOFFSETTO:-0500
TZNAME:EST
DTSTART:20191103T060000
END:STANDARD
BEGIN:DAYLIGHT
TZOFFSETFROM:-0500
TZOFFSETTO:-0400
TZNAME:EDT
DTSTART:20200308T070000
END:DAYLIGHT
BEGIN:STANDARD
TZOFFSETFROM:-0400
TZOFFSETTO:-0500
TZNAME:EST
DTSTART:20201101T060000
END:STANDARD
BEGIN:DAYLIGHT
TZOFFSETFROM:-0500
TZOFFSETTO:-0400
TZNAME:EDT
DTSTART:20210314T070000
END:DAYLIGHT
BEGIN:STANDARD
TZOFFSETFROM:-0400
TZOFFSETTO:-0500
TZNAME:EST
DTSTART:20211107T060000
END:STANDARD
END:VTIMEZONE
BEGIN:VEVENT
DTSTART;TZID=America/New_York:20200128T080000
DTEND;TZID=America/New_York:20200128T101500
DTSTAMP:20260420T205008
CREATED:20200110T134815Z
LAST-MODIFIED:20200528T041608Z
UID:440-1580198400-1580206500@mvasonline.com
SUMMARY:Social Security Benefits Update
DESCRIPTION:2 Hours TAX \nRegistration 8:00am\, Seminar 8:30am \nPresenter Robert Fenn\, Public Affairs Specialist for Social Security Administration \nMembers $20\, non-members $25 (Includes Breakfast) \n\n \n\n\n\nMembership\n\n\nMember $20.00 USDNon-Member $25.00 USD
URL:https://mvasonline.com/event/social-security-benefits-update/
LOCATION:A La Cart Catering\, 429 Lisbon Street\, Canfield\, OH\, 44406\, United States
END:VEVENT
END:VCALENDAR