BEGIN:VCALENDAR
VERSION:2.0
PRODID:-//Mahoning Valley Accounting Society - ECPv6.15.15//NONSGML v1.0//EN
CALSCALE:GREGORIAN
METHOD:PUBLISH
X-WR-CALNAME:Mahoning Valley Accounting Society
X-ORIGINAL-URL:https://mvasonline.com
X-WR-CALDESC:Events for Mahoning Valley Accounting Society
REFRESH-INTERVAL;VALUE=DURATION:PT1H
X-Robots-Tag:noindex
X-PUBLISHED-TTL:PT1H
BEGIN:VTIMEZONE
TZID:America/New_York
BEGIN:DAYLIGHT
TZOFFSETFROM:-0500
TZOFFSETTO:-0400
TZNAME:EDT
DTSTART:20220313T070000
END:DAYLIGHT
BEGIN:STANDARD
TZOFFSETFROM:-0400
TZOFFSETTO:-0500
TZNAME:EST
DTSTART:20221106T060000
END:STANDARD
BEGIN:DAYLIGHT
TZOFFSETFROM:-0500
TZOFFSETTO:-0400
TZNAME:EDT
DTSTART:20230312T070000
END:DAYLIGHT
BEGIN:STANDARD
TZOFFSETFROM:-0400
TZOFFSETTO:-0500
TZNAME:EST
DTSTART:20231105T060000
END:STANDARD
BEGIN:DAYLIGHT
TZOFFSETFROM:-0500
TZOFFSETTO:-0400
TZNAME:EDT
DTSTART:20240310T070000
END:DAYLIGHT
BEGIN:STANDARD
TZOFFSETFROM:-0400
TZOFFSETTO:-0500
TZNAME:EST
DTSTART:20241103T060000
END:STANDARD
END:VTIMEZONE
BEGIN:VEVENT
DTSTART;TZID=America/New_York:20231220T090000
DTEND;TZID=America/New_York:20231221T170000
DTSTAMP:20260425T135949
CREATED:20231117T210518Z
LAST-MODIFIED:20231120T153137Z
UID:821-1703062800-1703178000@mvasonline.com
SUMMARY:INDIVIDUAL TAX UDATE-Split Into Two - 4 Hour Days - Webinar
DESCRIPTION:DECEMBER 20th and DECEMBER 21st 2023\nINDIVIDUAL TAX UPDATE\nSPEAKER: Prof John J Connors\, JD CPA LLM – WEBINAR\nCOST:  $239 MEMBERS\, $259 NON-MEMBERS\nCPE: 8 HOURS\nView each day anytime between 9:00 am – 5:00 pm \n\n  \n   \n\n\n\n        \n        Attendee Type\n      \n\n\n\n        \n            MEMBERS $239.00 USD\n          \n            NON-MEMBERS $259.00 USD
URL:https://mvasonline.com/event/individual-tax-udate-split-into-two-4-hour-days-webinar/
LOCATION:Webinar
END:VEVENT
END:VCALENDAR