BEGIN:VCALENDAR
VERSION:2.0
PRODID:-//Mahoning Valley Accounting Society - ECPv6.15.15//NONSGML v1.0//EN
CALSCALE:GREGORIAN
METHOD:PUBLISH
X-WR-CALNAME:Mahoning Valley Accounting Society
X-ORIGINAL-URL:https://mvasonline.com
X-WR-CALDESC:Events for Mahoning Valley Accounting Society
REFRESH-INTERVAL;VALUE=DURATION:PT1H
X-Robots-Tag:noindex
X-PUBLISHED-TTL:PT1H
BEGIN:VTIMEZONE
TZID:America/New_York
BEGIN:DAYLIGHT
TZOFFSETFROM:-0500
TZOFFSETTO:-0400
TZNAME:EDT
DTSTART:20220313T070000
END:DAYLIGHT
BEGIN:STANDARD
TZOFFSETFROM:-0400
TZOFFSETTO:-0500
TZNAME:EST
DTSTART:20221106T060000
END:STANDARD
BEGIN:DAYLIGHT
TZOFFSETFROM:-0500
TZOFFSETTO:-0400
TZNAME:EDT
DTSTART:20230312T070000
END:DAYLIGHT
BEGIN:STANDARD
TZOFFSETFROM:-0400
TZOFFSETTO:-0500
TZNAME:EST
DTSTART:20231105T060000
END:STANDARD
BEGIN:DAYLIGHT
TZOFFSETFROM:-0500
TZOFFSETTO:-0400
TZNAME:EDT
DTSTART:20240310T070000
END:DAYLIGHT
BEGIN:STANDARD
TZOFFSETFROM:-0400
TZOFFSETTO:-0500
TZNAME:EST
DTSTART:20241103T060000
END:STANDARD
END:VTIMEZONE
BEGIN:VEVENT
DTSTART;TZID=America/New_York:20231214T085000
DTEND;TZID=America/New_York:20231214T171000
DTSTAMP:20260425T135946
CREATED:20231117T221240Z
LAST-MODIFIED:20231120T153557Z
UID:862-1702543800-1702573800@mvasonline.com
SUMMARY:2023 ACCOUNTING & AUDITING UPDATE - Webinar
DESCRIPTION:THURSDAY\, DECEMBER 14th\, 2023\n2023 ACCOUNTING & AUDITING UPDATE\nSPEAKER: Prof. Kenneth Heaslip\, CPA – WEBINAR\nCOST:  $239 MEMBERS\, $259 NON-MEMBERS\nCPE: 8 HOURS– 8:50 am to 5:10 pm \n\n  \n   \n\n\n\n        \n        Attendee Type\n      \n\n\n\n        \n            MEMBERS $239.00 USD\n          \n            NON-MEMBERS $259.00 USD
URL:https://mvasonline.com/event/2023-accounting-auditing-update-webinar/
LOCATION:Webinar
END:VEVENT
BEGIN:VEVENT
DTSTART;TZID=America/New_York:20231214T085000
DTEND;TZID=America/New_York:20231214T171000
DTSTAMP:20260425T135946
CREATED:20231117T221443Z
LAST-MODIFIED:20231120T151020Z
UID:866-1702543800-1702573800@mvasonline.com
SUMMARY:2023 COMPILATION & REVIEW UPDATE - WEBINAR
DESCRIPTION:THURSDAY\, DECEMBER 14th\, 2023\n2023 COMPILATION & REVIEW UPDATE\nSPEAKER: Prof. Kenneth Heaslip\, CPA – WEBINAR\nCOST:  $239 MEMBERS\, $259 NON-MEMBERS\nCPE: 8 HOURS– 8:50 am to 5:10 pm \n\n  \n   \n\n\n\n        \n        Attendee Type\n      \n\n\n\n        \n            MEMBERS $239.00 USD\n          \n            NON-MEMBERS $259.00 USD
URL:https://mvasonline.com/event/2023-compilation-review-update-webinar/
LOCATION:Webinar
END:VEVENT
BEGIN:VEVENT
DTSTART;TZID=America/New_York:20231214T090000
DTEND;TZID=America/New_York:20231215T170000
DTSTAMP:20260425T135946
CREATED:20231117T221012Z
LAST-MODIFIED:20231120T150902Z
UID:859-1702544400-1702659600@mvasonline.com
SUMMARY:2023 ACCOUNTING & AUDITING UPDATE - SPLIT INTO TWO - 4 HOUR DAYS - Webinar
DESCRIPTION:DECEMBER 14th and DECEMBER 15th 2023\n2023 ACCOUNTING & AUDITING UPDATE\nSPEAKER: Prof. Kenneth Heaslip\, CPA – WEBINAR\nCOST:  $239 MEMBERS\, $259 NON-MEMBERS\nCPE: 8 HOURS\nView each day anytime between 9:00 am – 5:00 pm \n\n  \n   \n\n\n\n        \n        Attendee Type\n      \n\n\n\n        \n            MEMBERS $239.00 USD\n          \n            NON-MEMBERS $259.00 USD
URL:https://mvasonline.com/event/2023-accounting-auditing-update-split-into-two-4-hour-days-webinar/
LOCATION:Webinar
END:VEVENT
BEGIN:VEVENT
DTSTART;TZID=America/New_York:20231214T090000
DTEND;TZID=America/New_York:20231215T170000
DTSTAMP:20260425T135946
CREATED:20231117T221731Z
LAST-MODIFIED:20231120T153809Z
UID:868-1702544400-1702659600@mvasonline.com
SUMMARY:2023 COMPILATION & REVIEW UPDATE - Split Into Two - 4 Hour Days- WEBINAR
DESCRIPTION:DECEMBER 14th and DECEMBER 15th 2023\n2023 COMPILATION & REVIEW UPDATE\nSPEAKER: Prof. Kenneth Heaslip\, CPA – WEBINAR\nCOST:  $239 MEMBERS\, $259 NON-MEMBERS\nCPE: 8 HOURS\nView each day anytime between 9:00 am – 5:00 pm \n\n  \n   \n\n\n\n        \n        Attendee Type\n      \n\n\n\n        \n            MEMBERS $239.00 USD\n          \n            NON-MEMBERS $259.00 USD
URL:https://mvasonline.com/event/2023-compilation-review-update-split-into-two-4-hour-days-webinar/
LOCATION:Webinar
END:VEVENT
END:VCALENDAR