BEGIN:VCALENDAR
VERSION:2.0
PRODID:-//Mahoning Valley Accounting Society - ECPv6.15.15//NONSGML v1.0//EN
CALSCALE:GREGORIAN
METHOD:PUBLISH
X-WR-CALNAME:Mahoning Valley Accounting Society
X-ORIGINAL-URL:https://mvasonline.com
X-WR-CALDESC:Events for Mahoning Valley Accounting Society
REFRESH-INTERVAL;VALUE=DURATION:PT1H
X-Robots-Tag:noindex
X-PUBLISHED-TTL:PT1H
BEGIN:VTIMEZONE
TZID:America/New_York
BEGIN:DAYLIGHT
TZOFFSETFROM:-0500
TZOFFSETTO:-0400
TZNAME:EDT
DTSTART:20220313T070000
END:DAYLIGHT
BEGIN:STANDARD
TZOFFSETFROM:-0400
TZOFFSETTO:-0500
TZNAME:EST
DTSTART:20221106T060000
END:STANDARD
BEGIN:DAYLIGHT
TZOFFSETFROM:-0500
TZOFFSETTO:-0400
TZNAME:EDT
DTSTART:20230312T070000
END:DAYLIGHT
BEGIN:STANDARD
TZOFFSETFROM:-0400
TZOFFSETTO:-0500
TZNAME:EST
DTSTART:20231105T060000
END:STANDARD
BEGIN:DAYLIGHT
TZOFFSETFROM:-0500
TZOFFSETTO:-0400
TZNAME:EDT
DTSTART:20240310T070000
END:DAYLIGHT
BEGIN:STANDARD
TZOFFSETFROM:-0400
TZOFFSETTO:-0500
TZNAME:EST
DTSTART:20241103T060000
END:STANDARD
END:VTIMEZONE
BEGIN:VEVENT
DTSTART;TZID=America/New_York:20231209T080000
DTEND;TZID=America/New_York:20231209T163000
DTSTAMP:20260425T140136
CREATED:20231031T201240Z
LAST-MODIFIED:20231031T201240Z
UID:813-1702108800-1702139400@mvasonline.com
SUMMARY:2023 INDIVIDUAL AND BUSINESS TAX UPDATE
DESCRIPTION:LOCATION:  MILL CREEK METROPARKS FARM\, CLASSROOM A\nSPEAKER: CECIL NAZARETH\, CPA\nREGISTRATION: 8:00AM\, SEMINAR 8:30AM – 4:30PM\nCOST: MEMBERS $239\, NON-MEMBERS $259 – INCLUDES LUNCH\nCPE: 8 HOURS TAX \n\n  \n   \n\n\n\n        \n        Attendee Type\n      \n\n\n\n        \n            MEMBERS $239.00 USD\n          \n            NON-MEMBERS $259.00 USD
URL:https://mvasonline.com/event/2023-individual-and-business-tax-update/
LOCATION:Mill Creek MetroParks Farm\, Classroom A\, 7574 Columbiana-Canfield Rd\, Canfield\, OH\, 44145\, United States
END:VEVENT
END:VCALENDAR