BEGIN:VCALENDAR
VERSION:2.0
PRODID:-//Mahoning Valley Accounting Society - ECPv6.15.15//NONSGML v1.0//EN
CALSCALE:GREGORIAN
METHOD:PUBLISH
X-WR-CALNAME:Mahoning Valley Accounting Society
X-ORIGINAL-URL:https://mvasonline.com
X-WR-CALDESC:Events for Mahoning Valley Accounting Society
REFRESH-INTERVAL;VALUE=DURATION:PT1H
X-Robots-Tag:noindex
X-PUBLISHED-TTL:PT1H
BEGIN:VTIMEZONE
TZID:America/New_York
BEGIN:DAYLIGHT
TZOFFSETFROM:-0500
TZOFFSETTO:-0400
TZNAME:EDT
DTSTART:20220313T070000
END:DAYLIGHT
BEGIN:STANDARD
TZOFFSETFROM:-0400
TZOFFSETTO:-0500
TZNAME:EST
DTSTART:20221106T060000
END:STANDARD
BEGIN:DAYLIGHT
TZOFFSETFROM:-0500
TZOFFSETTO:-0400
TZNAME:EDT
DTSTART:20230312T070000
END:DAYLIGHT
BEGIN:STANDARD
TZOFFSETFROM:-0400
TZOFFSETTO:-0500
TZNAME:EST
DTSTART:20231105T060000
END:STANDARD
BEGIN:DAYLIGHT
TZOFFSETFROM:-0500
TZOFFSETTO:-0400
TZNAME:EDT
DTSTART:20240310T070000
END:DAYLIGHT
BEGIN:STANDARD
TZOFFSETFROM:-0400
TZOFFSETTO:-0500
TZNAME:EST
DTSTART:20241103T060000
END:STANDARD
END:VTIMEZONE
BEGIN:VEVENT
DTSTART;TZID=America/New_York:20231206T090000
DTEND;TZID=America/New_York:20231207T170000
DTSTAMP:20260425T135946
CREATED:20231120T152510Z
LAST-MODIFIED:20231120T152510Z
UID:880-1701853200-1701968400@mvasonline.com
SUMMARY:BUSINESS & CORPORATE TAX UPDATE - Split Into Two - 4 Hour Days - Webinar
DESCRIPTION:DECEMBER 6th and December 7th 2023\nBUSINESS & CORPORATE TAX UPDATE\nSPEAKER: Prof John J Connors\, JD CPA LLM – WEBINAR\nCOST: $239 MEMBERS\, $259 NON-MEMBERS\nCPE: 8 HOURS\nView each day anytime between 9:00 am – 5:00 pm \n\n  \n   \n\n\n\n        \n        Attendee Type\n      \n\n\n\n        \n            MEMBERS $239.00 USD\n          \n            NON-MEMBERS $259.00 USD
URL:https://mvasonline.com/event/business-corporate-tax-update-split-into-two-4-hour-days-webinar-2/
LOCATION:Webinar
END:VEVENT
BEGIN:VEVENT
DTSTART;TZID=America/New_York:20231207T085000
DTEND;TZID=America/New_York:20231207T171000
DTSTAMP:20260425T135946
CREATED:20231117T214502Z
LAST-MODIFIED:20231120T145418Z
UID:838-1701939000-1701969000@mvasonline.com
SUMMARY:2023 TRUSTS: LEGAL & TAX ASPECTS-Webinar
DESCRIPTION:THURSDAY\, DECEMBER 7\, 2023\nTRUSTS: LEGAL & TAX ASPECTS\nSPEAKER: Arthur J. Werner\, Esq. – WEBINAR\nCOST:  $239 MEMBERS\, $259 NON-MEMBERS\nCPE: 8 HOURS– 8:50 am to 5:10 pm \n\n  \n   \n\n\n\n        \n        Attendee Type\n      \n\n\n\n        \n            MEMBERS $239.00 USD\n          \n            NON-MEMBERS $259.00 USD
URL:https://mvasonline.com/event/2023-trusts-legal-tax-aspects-webinar/
LOCATION:Webinar
END:VEVENT
BEGIN:VEVENT
DTSTART;TZID=America/New_York:20231207T085000
DTEND;TZID=America/New_York:20231207T171000
DTSTAMP:20260425T135946
CREATED:20231117T215519Z
LAST-MODIFIED:20231120T150329Z
UID:844-1701939000-1701969000@mvasonline.com
SUMMARY:SECURE ACT 2.0 IN-DEPTH & RETIREMENT PLANNING-Webinar
DESCRIPTION:THURSDAY\, DECEMBER 7\, 2023\nSECURE ACT 2.0 IN-DEPTH & RETIREMENT PLANNING\nSPEAKER: Arthur J. Werner\, Esq. – WEBINAR\nCOST:  $239 MEMBERS\, $259 NON-MEMBERS\nCPE: 8 HOURS– 8:50 am to 5:10 pm \n\n  \n   \n\n\n\n        \n        Attendee Type\n      \n\n\n\n        \n            MEMBERS $239.00 USD\n          \n            NON-MEMBERS $259.00 USD
URL:https://mvasonline.com/event/secure-act-2-0-in-depth-retirement-planning-webinar/
LOCATION:Webinar
END:VEVENT
BEGIN:VEVENT
DTSTART;TZID=America/New_York:20231207T090000
DTEND;TZID=America/New_York:20231208T170000
DTSTAMP:20260425T135946
CREATED:20231117T215107Z
LAST-MODIFIED:20231120T145313Z
UID:840-1701939600-1702054800@mvasonline.com
SUMMARY:2023 TRUSTS: LEGAL & TAX ASPECTS-Split Into Two - 4 Hour Days-Webinar
DESCRIPTION:DECEMBER 7th AND DECEMBER 8th 2023\nTRUSTS: LEGAL & TAX ASPECTS\nSPEAKER: Arthur J. Werner\, Esq. – WEBINAR\nCOST:  $239 MEMBERS\, $259 NON-MEMBERS\nCPE: 8 HOURS\nView each day anytime between 9:00 am – 5:00 pm \n\n  \n   \n\n\n\n        \n        Attendee Type\n      \n\n\n\n        \n            MEMBERS $239.00 USD\n          \n            NON-MEMBERS $259.00 USD
URL:https://mvasonline.com/event/2023-trusts-legal-tax-aspects-split-into-two-4-hour-days-webinar/
LOCATION:OH
END:VEVENT
BEGIN:VEVENT
DTSTART;TZID=America/New_York:20231207T090000
DTEND;TZID=America/New_York:20231208T170000
DTSTAMP:20260425T135946
CREATED:20231117T220005Z
LAST-MODIFIED:20231120T150542Z
UID:849-1701939600-1702054800@mvasonline.com
SUMMARY:SECURE ACT 2.0 IN-DEPTH & RETIREMENT PLANNING Split Into Two-4 Hour Days-Webinar
DESCRIPTION:DECEMBER 7th and DECEMBER 8th\, 2023\nSECURE ACT 2.0 IN-DEPTH & RETIREMENT PLANNING\nSPEAKER: Arthur J. Werner\, Esq. – WEBINAR\nCOST:  $239 MEMBERS\, $259 NON-MEMBERS\nCPE: 8 HOURS – Two 4 Hour Days\nView each day anytime between 9:00 am – 5:00 pm \n\n  \n   \n\n\n\n        \n        Attendee Type\n      \n\n\n\n        \n            MEMBERS $239.00 USD\n          \n            NON-MEMBERS $259.00 USD
URL:https://mvasonline.com/event/secure-act-2-0-in-depth-retirement-planning-split-into-two-4-hour-days-webinar/
LOCATION:Webinar
END:VEVENT
END:VCALENDAR