BEGIN:VCALENDAR
VERSION:2.0
PRODID:-//Mahoning Valley Accounting Society - ECPv6.15.15//NONSGML v1.0//EN
CALSCALE:GREGORIAN
METHOD:PUBLISH
X-WR-CALNAME:Mahoning Valley Accounting Society
X-ORIGINAL-URL:https://mvasonline.com
X-WR-CALDESC:Events for Mahoning Valley Accounting Society
REFRESH-INTERVAL;VALUE=DURATION:PT1H
X-Robots-Tag:noindex
X-PUBLISHED-TTL:PT1H
BEGIN:VTIMEZONE
TZID:America/New_York
BEGIN:DAYLIGHT
TZOFFSETFROM:-0500
TZOFFSETTO:-0400
TZNAME:EDT
DTSTART:20220313T070000
END:DAYLIGHT
BEGIN:STANDARD
TZOFFSETFROM:-0400
TZOFFSETTO:-0500
TZNAME:EST
DTSTART:20221106T060000
END:STANDARD
BEGIN:DAYLIGHT
TZOFFSETFROM:-0500
TZOFFSETTO:-0400
TZNAME:EDT
DTSTART:20230312T070000
END:DAYLIGHT
BEGIN:STANDARD
TZOFFSETFROM:-0400
TZOFFSETTO:-0500
TZNAME:EST
DTSTART:20231105T060000
END:STANDARD
BEGIN:DAYLIGHT
TZOFFSETFROM:-0500
TZOFFSETTO:-0400
TZNAME:EDT
DTSTART:20240310T070000
END:DAYLIGHT
BEGIN:STANDARD
TZOFFSETFROM:-0400
TZOFFSETTO:-0500
TZNAME:EST
DTSTART:20241103T060000
END:STANDARD
END:VTIMEZONE
BEGIN:VEVENT
DTSTART;TZID=America/New_York:20231130T085000
DTEND;TZID=America/New_York:20231130T171000
DTSTAMP:20260425T135948
CREATED:20231117T213115Z
LAST-MODIFIED:20231120T141953Z
UID:831-1701334200-1701364200@mvasonline.com
SUMMARY:2023 PARTNERSHIP TAX UPDATE-IN-DEPTH-Webinar
DESCRIPTION:THURSDAY\, NOVEMBER 30\, 2023\n2023 PARTNERSHIP TAX UPDATE-IN-DEPTH\nSPEAKER: Prof John J Connors\, JD CPA LLM – WEBINAR\nCOST:  $239 MEMBERS\, $259 NON-MEMBERS\nCPE: 8 HOURS– 8:50 am to 5:10 pm \n\n  \n   \n\n\n\n        \n        Attendee Type\n      \n\n\n\n        \n            MEMBERS $239.00 USD\n          \n            NON-MEMBERS $259.00 USD
URL:https://mvasonline.com/event/2023-partnership-tax-update-in-depth-webinar/
LOCATION:Webinar
END:VEVENT
BEGIN:VEVENT
DTSTART;TZID=America/New_York:20231130T090000
DTEND;TZID=America/New_York:20231201T170000
DTSTAMP:20260425T135948
CREATED:20231117T213530Z
LAST-MODIFIED:20231120T142733Z
UID:833-1701334800-1701450000@mvasonline.com
SUMMARY:2023 PARTNERSHIP TAX UPDATE-IN-DEPTH-Split Into Two - 4 Hour Days-Webinar
DESCRIPTION:NOVEMBER 30th and December 1st 2023\n2023 PARTNERSHIP TAX UPDATE-IN-DEPTH\nSPEAKER: Prof John J Connors\, JD CPA LLM – WEBINAR\nCOST: $239 MEMBERS\, $259 NON-MEMBERS\nCPE: 8 HOURS\nView each day anytime between 9:00 am – 5:00 pm \n\n  \n   \n\n\n\n        \n        Attendee Type\n      \n\n\n\n        \n            MEMBERS $239.00 USD\n          \n            NON-MEMBERS $259.00 USD
URL:https://mvasonline.com/event/2023-partnership-tax-update-in-depth-split-into-two-4-hour-days-webinar/
LOCATION:Webinar
END:VEVENT
END:VCALENDAR